BEGIN:VCALENDAR
VERSION:2.0
PRODID:-//Lakeland Centre for FASD - ECPv6.15.20//NONSGML v1.0//EN
CALSCALE:GREGORIAN
METHOD:PUBLISH
X-ORIGINAL-URL:https://lcfasd.com
X-WR-CALDESC:Events for Lakeland Centre for FASD
REFRESH-INTERVAL;VALUE=DURATION:PT1H
X-Robots-Tag:noindex
X-PUBLISHED-TTL:PT1H
BEGIN:VTIMEZONE
TZID:America/Edmonton
BEGIN:DAYLIGHT
TZOFFSETFROM:-0700
TZOFFSETTO:-0600
TZNAME:MDT
DTSTART:20170312T090000
END:DAYLIGHT
BEGIN:STANDARD
TZOFFSETFROM:-0600
TZOFFSETTO:-0700
TZNAME:MST
DTSTART:20171105T080000
END:STANDARD
BEGIN:DAYLIGHT
TZOFFSETFROM:-0700
TZOFFSETTO:-0600
TZNAME:MDT
DTSTART:20180311T090000
END:DAYLIGHT
BEGIN:STANDARD
TZOFFSETFROM:-0600
TZOFFSETTO:-0700
TZNAME:MST
DTSTART:20181104T080000
END:STANDARD
BEGIN:DAYLIGHT
TZOFFSETFROM:-0700
TZOFFSETTO:-0600
TZNAME:MDT
DTSTART:20190310T090000
END:DAYLIGHT
BEGIN:STANDARD
TZOFFSETFROM:-0600
TZOFFSETTO:-0700
TZNAME:MST
DTSTART:20191103T080000
END:STANDARD
END:VTIMEZONE
BEGIN:VEVENT
DTSTART;TZID=America/Edmonton:20181011T080000
DTEND;TZID=America/Edmonton:20181011T170000
DTSTAMP:20260422T095929
CREATED:20180919T173733Z
LAST-MODIFIED:20180919T173733Z
UID:2102-1539244800-1539277200@lcfasd.com
SUMMARY:The Cold Lake office (as well as all the satellite offices) will be closed due to staff training
DESCRIPTION:The Cold Lake office (including all the satellite offices) will be closed for October 10 and 11th due to staff training. We will reopen on October 12\, 2018
URL:https://lcfasd.com/calendar/office-closed-due-to-staff-training/
END:VEVENT
BEGIN:VEVENT
DTSTART;TZID=America/Edmonton:20181011T110000
DTEND;TZID=America/Edmonton:20181011T130000
DTSTAMP:20260422T095929
CREATED:20180917T175940Z
LAST-MODIFIED:20180917T175940Z
UID:2031-1539255600-1539262800@lcfasd.com
SUMMARY:Lac La Biche Employment Group - Cancelled due to staff training
DESCRIPTION: 
URL:https://lcfasd.com/calendar/lac-la-biche-employment-group-24/
END:VEVENT
BEGIN:VEVENT
DTSTART;TZID=America/Edmonton:20181011T130000
DTEND;TZID=America/Edmonton:20181011T150000
DTSTAMP:20260422T095929
CREATED:20180823T152627Z
LAST-MODIFIED:20180823T152627Z
UID:1950-1539262800-1539270000@lcfasd.com
SUMMARY:Art Club - Cancelled due to staff training
DESCRIPTION:Explore your creative artistic side and join us every Thursday from 1:00-3:00 for art club. Art club is open to LCFASD clients. Please call to register at 780-594-9905
URL:https://lcfasd.com/calendar/art-club-19/
END:VEVENT
END:VCALENDAR