BEGIN:VCALENDAR
VERSION:2.0
PRODID:-//Lakeland Centre for FASD - ECPv6.15.20//NONSGML v1.0//EN
CALSCALE:GREGORIAN
METHOD:PUBLISH
X-WR-CALNAME:Lakeland Centre for FASD
X-ORIGINAL-URL:https://lcfasd.com
X-WR-CALDESC:Events for Lakeland Centre for FASD
REFRESH-INTERVAL;VALUE=DURATION:PT1H
X-Robots-Tag:noindex
X-PUBLISHED-TTL:PT1H
BEGIN:VTIMEZONE
TZID:America/Edmonton
BEGIN:DAYLIGHT
TZOFFSETFROM:-0700
TZOFFSETTO:-0600
TZNAME:MDT
DTSTART:20180311T090000
END:DAYLIGHT
BEGIN:STANDARD
TZOFFSETFROM:-0600
TZOFFSETTO:-0700
TZNAME:MST
DTSTART:20181104T080000
END:STANDARD
BEGIN:DAYLIGHT
TZOFFSETFROM:-0700
TZOFFSETTO:-0600
TZNAME:MDT
DTSTART:20190310T090000
END:DAYLIGHT
BEGIN:STANDARD
TZOFFSETFROM:-0600
TZOFFSETTO:-0700
TZNAME:MST
DTSTART:20191103T080000
END:STANDARD
BEGIN:DAYLIGHT
TZOFFSETFROM:-0700
TZOFFSETTO:-0600
TZNAME:MDT
DTSTART:20200308T090000
END:DAYLIGHT
BEGIN:STANDARD
TZOFFSETFROM:-0600
TZOFFSETTO:-0700
TZNAME:MST
DTSTART:20201101T080000
END:STANDARD
END:VTIMEZONE
BEGIN:VEVENT
DTSTART;TZID=America/Edmonton:20190627T110000
DTEND;TZID=America/Edmonton:20190627T130000
DTSTAMP:20260421T054125
CREATED:20190321T200518Z
LAST-MODIFIED:20190321T200518Z
UID:2868-1561633200-1561640400@lcfasd.com
SUMMARY:Cold Lake Employment Group
DESCRIPTION:
URL:https://lcfasd.com/calendar/cold-lake-employment-group-59/
CATEGORIES:Awareness
END:VEVENT
BEGIN:VEVENT
DTSTART;TZID=America/Edmonton:20190627T130000
DTEND;TZID=America/Edmonton:20190627T143000
DTSTAMP:20260421T054125
CREATED:20190529T174959Z
LAST-MODIFIED:20190529T174959Z
UID:3202-1561640400-1561645800@lcfasd.com
SUMMARY:Kikino Employment Group
DESCRIPTION:
URL:https://lcfasd.com/calendar/kikino-employment-group-4/
END:VEVENT
BEGIN:VEVENT
DTSTART;TZID=America/Edmonton:20190627T133000
DTEND;TZID=America/Edmonton:20190627T150000
DTSTAMP:20260421T054125
CREATED:20190321T175421Z
LAST-MODIFIED:20190321T175421Z
UID:2859-1561642200-1561647600@lcfasd.com
SUMMARY:Art Club
DESCRIPTION:Explore your creative artistic side and join us every Thursday from 1:30-3:00 for art club. Art club is open to LCFASD clients. Please call to register at 780-594-9905
URL:https://lcfasd.com/calendar/art-club-56/
CATEGORIES:Awareness
END:VEVENT
END:VCALENDAR