BEGIN:VCALENDAR
VERSION:2.0
PRODID:-//Lakeland Centre for FASD - ECPv6.15.20//NONSGML v1.0//EN
CALSCALE:GREGORIAN
METHOD:PUBLISH
X-WR-CALNAME:Lakeland Centre for FASD
X-ORIGINAL-URL:https://lcfasd.com
X-WR-CALDESC:Events for Lakeland Centre for FASD
REFRESH-INTERVAL;VALUE=DURATION:PT1H
X-Robots-Tag:noindex
X-PUBLISHED-TTL:PT1H
BEGIN:VTIMEZONE
TZID:America/Edmonton
BEGIN:DAYLIGHT
TZOFFSETFROM:-0700
TZOFFSETTO:-0600
TZNAME:MDT
DTSTART:20200308T090000
END:DAYLIGHT
BEGIN:STANDARD
TZOFFSETFROM:-0600
TZOFFSETTO:-0700
TZNAME:MST
DTSTART:20201101T080000
END:STANDARD
BEGIN:DAYLIGHT
TZOFFSETFROM:-0700
TZOFFSETTO:-0600
TZNAME:MDT
DTSTART:20210314T090000
END:DAYLIGHT
BEGIN:STANDARD
TZOFFSETFROM:-0600
TZOFFSETTO:-0700
TZNAME:MST
DTSTART:20211107T080000
END:STANDARD
BEGIN:DAYLIGHT
TZOFFSETFROM:-0700
TZOFFSETTO:-0600
TZNAME:MDT
DTSTART:20220313T090000
END:DAYLIGHT
BEGIN:STANDARD
TZOFFSETFROM:-0600
TZOFFSETTO:-0700
TZNAME:MST
DTSTART:20221106T080000
END:STANDARD
END:VTIMEZONE
BEGIN:VTIMEZONE
TZID:UTC
BEGIN:STANDARD
TZOFFSETFROM:+0000
TZOFFSETTO:+0000
TZNAME:UTC
DTSTART:20200101T000000
END:STANDARD
END:VTIMEZONE
BEGIN:VEVENT
DTSTART;TZID=America/Edmonton:20211202T110000
DTEND;TZID=America/Edmonton:20211202T130000
DTSTAMP:20260422T091636
CREATED:20211108T165504Z
LAST-MODIFIED:20211108T165504Z
UID:8577-1638442800-1638450000@lcfasd.com
SUMMARY:Employment Group
DESCRIPTION:
URL:https://lcfasd.com/calendar/employment-group-18/
LOCATION:Call for more information\, Alberta\, T9M 1P1\, Canada
CATEGORIES:Awareness
ORGANIZER;CN="LCFASD":MAILTO:admin@lcfasd.com
END:VEVENT
BEGIN:VEVENT
DTSTART;TZID=UTC:20211126T130000
DTEND;TZID=UTC:20211126T140000
DTSTAMP:20260422T091636
CREATED:20211115T225258Z
LAST-MODIFIED:20211115T225258Z
UID:8605-1637931600-1637935200@lcfasd.com
SUMMARY:Al-Anon Women’s Support Group
DESCRIPTION:Al-Anon Women’s Support Group. Temporarily closed to the public due to the pandemic.
URL:https://lcfasd.com/calendar/al-anon-womens-support-group-129/
LOCATION:Microsoft Teams
CATEGORIES:Awareness
ORGANIZER;CN="LCFASD":MAILTO:admin@lcfasd.com
END:VEVENT
BEGIN:VEVENT
DTSTART;TZID=America/Edmonton:20211125T200000
DTEND;TZID=America/Edmonton:20211125T210000
DTSTAMP:20260422T091636
CREATED:20210922T154731Z
LAST-MODIFIED:20210922T154731Z
UID:8515-1637870400-1637874000@lcfasd.com
SUMMARY:Online Caregiver Support Group
DESCRIPTION:
URL:https://lcfasd.com/calendar/online-caregiver-support-group/
LOCATION:Microsoft Teams
CATEGORIES:Awareness
ORGANIZER;CN="LCFASD":MAILTO:admin@lcfasd.com
END:VEVENT
BEGIN:VEVENT
DTSTART;TZID=America/Edmonton:20211125T110000
DTEND;TZID=America/Edmonton:20211125T130000
DTSTAMP:20260422T091636
CREATED:20210922T151107Z
LAST-MODIFIED:20211108T165131Z
UID:8513-1637838000-1637845200@lcfasd.com
SUMMARY:Employment Group
DESCRIPTION:
URL:https://lcfasd.com/calendar/employment-group-26/
LOCATION:Call for more information\, Alberta\, T9M 1P1\, Canada
CATEGORIES:Awareness
ORGANIZER;CN="LCFASD":MAILTO:admin@lcfasd.com
END:VEVENT
BEGIN:VEVENT
DTSTART;TZID=UTC:20211119T130000
DTEND;TZID=UTC:20211119T140000
DTSTAMP:20260422T091636
CREATED:20211115T222517Z
LAST-MODIFIED:20211115T222517Z
UID:8603-1637326800-1637330400@lcfasd.com
SUMMARY:Al-Anon Women's Support Group
DESCRIPTION:Al-Anon Women’s Support Group. Temporarily closed to the public due to the pandemic.
URL:https://lcfasd.com/calendar/al-anon-womens-support-group-128/
LOCATION:Microsoft Teams
CATEGORIES:Awareness
ORGANIZER;CN="LCFASD":MAILTO:admin@lcfasd.com
END:VEVENT
BEGIN:VEVENT
DTSTART;TZID=America/Edmonton:20211118T150000
DTEND;TZID=America/Edmonton:20211118T160000
DTSTAMP:20260422T091636
CREATED:20210922T150816Z
LAST-MODIFIED:20211108T165208Z
UID:8509-1637247600-1637251200@lcfasd.com
SUMMARY:Employment Group
DESCRIPTION:
URL:https://lcfasd.com/calendar/employment-group-22/
LOCATION:Call for more information\, Alberta\, T9M 1P1\, Canada
CATEGORIES:Awareness
ORGANIZER;CN="LCFASD":MAILTO:admin@lcfasd.com
END:VEVENT
BEGIN:VEVENT
DTSTART;TZID=UTC:20211118T090000
DTEND;TZID=UTC:20211118T150000
DTSTAMP:20260422T091636
CREATED:20211110T164223Z
LAST-MODIFIED:20211110T164223Z
UID:8600-1637226000-1637247600@lcfasd.com
SUMMARY:Foundations in FASD online training
DESCRIPTION:
URL:https://lcfasd.com/calendar/foundations-in-fasd-online-training/
LOCATION:Microsoft Teams
CATEGORIES:Awareness
ORGANIZER;CN="LCFASD":MAILTO:admin@lcfasd.com
END:VEVENT
BEGIN:VEVENT
DTSTART;TZID=America/Edmonton:20211111T110000
DTEND;TZID=America/Edmonton:20211111T130000
DTSTAMP:20260422T091636
CREATED:20210922T150955Z
LAST-MODIFIED:20211108T165032Z
UID:8511-1636628400-1636635600@lcfasd.com
SUMMARY:Employment Group
DESCRIPTION:
URL:https://lcfasd.com/calendar/employment-group-24/
LOCATION:Call for more information\, Alberta\, T9M 1P1\, Canada
CATEGORIES:Awareness
ORGANIZER;CN="LCFASD":MAILTO:admin@lcfasd.com
END:VEVENT
BEGIN:VEVENT
DTSTART;TZID=America/Edmonton:20211109T120000
DTEND;TZID=America/Edmonton:20211109T130000
DTSTAMP:20260422T091636
CREATED:20211027T190725Z
LAST-MODIFIED:20211027T193409Z
UID:8570-1636459200-1636462800@lcfasd.com
SUMMARY:FASD Prevention Lunch and Learn - Prevention Conversation
DESCRIPTION:
URL:https://lcfasd.com/calendar/lunch-and-learn-prevention-conversation/
LOCATION:Facebook Live
CATEGORIES:Awareness
ORGANIZER;CN="LCFASD":MAILTO:admin@lcfasd.com
END:VEVENT
BEGIN:VEVENT
DTSTART;TZID=America/Edmonton:20211104T110000
DTEND;TZID=America/Edmonton:20211104T130000
DTSTAMP:20260422T091636
CREATED:20210922T150852Z
LAST-MODIFIED:20211108T164939Z
UID:8510-1636023600-1636030800@lcfasd.com
SUMMARY:Employment Group
DESCRIPTION:
URL:https://lcfasd.com/calendar/employment-group-23/
LOCATION:Call for more information\, Alberta\, T9M 1P1\, Canada
CATEGORIES:Awareness
ORGANIZER;CN="LCFASD":MAILTO:admin@lcfasd.com
END:VEVENT
BEGIN:VEVENT
DTSTART;TZID=America/Edmonton:20211029T140000
DTEND;TZID=America/Edmonton:20211029T150000
DTSTAMP:20260422T091636
CREATED:20210804T193210Z
LAST-MODIFIED:20210804T193210Z
UID:8463-1635516000-1635519600@lcfasd.com
SUMMARY:Drumming
DESCRIPTION:Looking for ways to feel like part of a community\, while making music? Drumming Circles are a great way to empower people\, while bringing them together. Join us every Friday from 2:00-3:00pm. Drumming is open to LCFASD clients. Please call to register at 780-594-9905.
URL:https://lcfasd.com/calendar/drumming-17/
LOCATION:Cold Lake office
CATEGORIES:Awareness
ORGANIZER;CN="LCFASD":MAILTO:admin@lcfasd.com
END:VEVENT
BEGIN:VEVENT
DTSTART;TZID=America/Edmonton:20211029T130000
DTEND;TZID=America/Edmonton:20211029T140000
DTSTAMP:20260422T091636
CREATED:20210804T160137Z
LAST-MODIFIED:20210804T160137Z
UID:8450-1635512400-1635516000@lcfasd.com
SUMMARY:Al-Anon Women's Support Group
DESCRIPTION:Al-Anon Women’s Support Group. Open to the community. Please call to register at 780-594-9905.
URL:https://lcfasd.com/calendar/al-anon-womens-support-group-123/
LOCATION:Cold Lake office
CATEGORIES:Awareness
ORGANIZER;CN="LCFASD":MAILTO:admin@lcfasd.com
END:VEVENT
BEGIN:VEVENT
DTSTART;TZID=America/Edmonton:20211028T200000
DTEND;TZID=America/Edmonton:20211028T210000
DTSTAMP:20260422T091636
CREATED:20210922T154601Z
LAST-MODIFIED:20210922T154601Z
UID:8514-1635451200-1635454800@lcfasd.com
SUMMARY:Caregiver Online Support Group
DESCRIPTION:
URL:https://lcfasd.com/calendar/caregiver-online-support-group-14/
LOCATION:Microsoft Teams
CATEGORIES:Awareness
ORGANIZER;CN="LCFASD":MAILTO:admin@lcfasd.com
END:VEVENT
BEGIN:VEVENT
DTSTART;TZID=America/Edmonton:20211028T110000
DTEND;TZID=America/Edmonton:20211028T130000
DTSTAMP:20260422T091636
CREATED:20210804T155756Z
LAST-MODIFIED:20210804T155756Z
UID:8445-1635418800-1635426000@lcfasd.com
SUMMARY:Employment Group
DESCRIPTION:
URL:https://lcfasd.com/calendar/employment-group-17/
LOCATION:Call for more information\, Alberta\, T9M 1P1\, Canada
CATEGORIES:Awareness
ORGANIZER;CN="LCFASD":MAILTO:admin@lcfasd.com
END:VEVENT
BEGIN:VEVENT
DTSTART;TZID=America/Edmonton:20211026T150000
DTEND;TZID=America/Edmonton:20211026T160000
DTSTAMP:20260422T091636
CREATED:20210804T155708Z
LAST-MODIFIED:20210804T155708Z
UID:8444-1635260400-1635264000@lcfasd.com
SUMMARY:Employment Group
DESCRIPTION:
URL:https://lcfasd.com/calendar/employment-group-16/
LOCATION:Call for more information\, Alberta\, T9M 1P1\, Canada
CATEGORIES:Awareness
ORGANIZER;CN="LCFASD":MAILTO:admin@lcfasd.com
END:VEVENT
BEGIN:VEVENT
DTSTART;TZID=America/Edmonton:20211022T140000
DTEND;TZID=America/Edmonton:20211022T150000
DTSTAMP:20260422T091636
CREATED:20210804T193142Z
LAST-MODIFIED:20210804T193142Z
UID:8462-1634911200-1634914800@lcfasd.com
SUMMARY:Drumming
DESCRIPTION:Looking for ways to feel like part of a community\, while making music? Drumming Circles are a great way to empower people\, while bringing them together. Join us every Friday from 2:00-3:00pm. Drumming is open to LCFASD clients. Please call to register at 780-594-9905.
URL:https://lcfasd.com/calendar/drumming-16/
LOCATION:Cold Lake office
CATEGORIES:Awareness
ORGANIZER;CN="LCFASD":MAILTO:admin@lcfasd.com
END:VEVENT
BEGIN:VEVENT
DTSTART;TZID=America/Edmonton:20211022T130000
DTEND;TZID=America/Edmonton:20211022T140000
DTSTAMP:20260422T091636
CREATED:20210804T160106Z
LAST-MODIFIED:20211108T170507Z
UID:8449-1634907600-1634911200@lcfasd.com
SUMMARY:Al-Anon Women's Support Group - Temporarily closed to the public
DESCRIPTION:Al-Anon Women’s Support Group. Open to the community. Please call to register at 780-594-9905. Temporarily closed to the public.
URL:https://lcfasd.com/calendar/al-anon-womens-support-group-122/
LOCATION:Cold Lake office
CATEGORIES:Awareness
ORGANIZER;CN="LCFASD":MAILTO:admin@lcfasd.com
END:VEVENT
BEGIN:VEVENT
DTSTART;TZID=America/Edmonton:20211021T110000
DTEND;TZID=America/Edmonton:20211021T130000
DTSTAMP:20260422T091636
CREATED:20210804T155554Z
LAST-MODIFIED:20210804T155554Z
UID:8443-1634814000-1634821200@lcfasd.com
SUMMARY:Employment Group
DESCRIPTION:
URL:https://lcfasd.com/calendar/employment-group-15/
LOCATION:Call for more information\, Alberta\, T9M 1P1\, Canada
CATEGORIES:Awareness
ORGANIZER;CN="LCFASD":MAILTO:admin@lcfasd.com
END:VEVENT
BEGIN:VEVENT
DTSTART;TZID=America/Edmonton:20211019T150000
DTEND;TZID=America/Edmonton:20211019T160000
DTSTAMP:20260422T091636
CREATED:20210804T155515Z
LAST-MODIFIED:20210804T155515Z
UID:8442-1634655600-1634659200@lcfasd.com
SUMMARY:Employment Group
DESCRIPTION:
URL:https://lcfasd.com/calendar/employment-group-14/
LOCATION:Call for more information\, Alberta\, T9M 1P1\, Canada
CATEGORIES:Awareness
ORGANIZER;CN="LCFASD":MAILTO:admin@lcfasd.com
END:VEVENT
BEGIN:VEVENT
DTSTART;TZID=America/Edmonton:20211015T140000
DTEND;TZID=America/Edmonton:20211015T150000
DTSTAMP:20260422T091636
CREATED:20210804T193117Z
LAST-MODIFIED:20210804T193117Z
UID:8461-1634306400-1634310000@lcfasd.com
SUMMARY:Drumming
DESCRIPTION:Looking for ways to feel like part of a community\, while making music? Drumming Circles are a great way to empower people\, while bringing them together. Join us every Friday from 2:00-3:00pm. Drumming is open to LCFASD clients. Please call to register at 780-594-9905.
URL:https://lcfasd.com/calendar/drumming-15/
LOCATION:Cold Lake office
CATEGORIES:Awareness
ORGANIZER;CN="LCFASD":MAILTO:admin@lcfasd.com
END:VEVENT
BEGIN:VEVENT
DTSTART;TZID=America/Edmonton:20211015T130000
DTEND;TZID=America/Edmonton:20211015T140000
DTSTAMP:20260422T091636
CREATED:20210804T160030Z
LAST-MODIFIED:20210804T160030Z
UID:8448-1634302800-1634306400@lcfasd.com
SUMMARY:Al-Anon Women's Support Group
DESCRIPTION:Al-Anon Women’s Support Group. Open to the community. Please call to register at 780-594-9905.
URL:https://lcfasd.com/calendar/al-anon-womens-support-group-121/
LOCATION:Cold Lake office
CATEGORIES:Awareness
ORGANIZER;CN="LCFASD":MAILTO:admin@lcfasd.com
END:VEVENT
BEGIN:VEVENT
DTSTART;TZID=America/Edmonton:20211014T110000
DTEND;TZID=America/Edmonton:20211014T130000
DTSTAMP:20260422T091636
CREATED:20210804T155436Z
LAST-MODIFIED:20210804T155436Z
UID:8441-1634209200-1634216400@lcfasd.com
SUMMARY:Employment Group
DESCRIPTION:
URL:https://lcfasd.com/calendar/employment-group-13/
LOCATION:Call for more information\, Alberta\, T9M 1P1\, Canada
CATEGORIES:Awareness
ORGANIZER;CN="LCFASD":MAILTO:admin@lcfasd.com
END:VEVENT
BEGIN:VEVENT
DTSTART;TZID=America/Edmonton:20211012T150000
DTEND;TZID=America/Edmonton:20211012T160000
DTSTAMP:20260422T091636
CREATED:20210804T155359Z
LAST-MODIFIED:20210804T155359Z
UID:8440-1634050800-1634054400@lcfasd.com
SUMMARY:Employment Group
DESCRIPTION:
URL:https://lcfasd.com/calendar/employment-group-12/
LOCATION:Call for more information\, Alberta\, T9M 1P1\, Canada
CATEGORIES:Awareness
ORGANIZER;CN="LCFASD":MAILTO:admin@lcfasd.com
END:VEVENT
BEGIN:VEVENT
DTSTART;TZID=America/Edmonton:20211012T120000
DTEND;TZID=America/Edmonton:20211012T130000
DTSTAMP:20260422T091636
CREATED:20210707T161634Z
LAST-MODIFIED:20210707T161634Z
UID:8383-1634040000-1634043600@lcfasd.com
SUMMARY:FASD Prevention Lunch and Learn
DESCRIPTION:
URL:https://lcfasd.com/calendar/fasd-prevention-lunch-and-learn-8/
LOCATION:Microsoft Teams
CATEGORIES:Awareness
ORGANIZER;CN="LCFASD":MAILTO:admin@lcfasd.com
END:VEVENT
BEGIN:VEVENT
DTSTART;TZID=America/Edmonton:20211008T140000
DTEND;TZID=America/Edmonton:20211008T150000
DTSTAMP:20260422T091636
CREATED:20210804T193050Z
LAST-MODIFIED:20210804T193050Z
UID:8460-1633701600-1633705200@lcfasd.com
SUMMARY:Drumming
DESCRIPTION:Looking for ways to feel like part of a community\, while making music? Drumming Circles are a great way to empower people\, while bringing them together. Join us every Friday from 2:00-3:00pm. Drumming is open to LCFASD clients. Please call to register at 780-594-9905.
URL:https://lcfasd.com/calendar/drumming-14/
LOCATION:Cold Lake office
CATEGORIES:Awareness
ORGANIZER;CN="LCFASD":MAILTO:admin@lcfasd.com
END:VEVENT
BEGIN:VEVENT
DTSTART;TZID=America/Edmonton:20211008T130000
DTEND;TZID=America/Edmonton:20211008T140000
DTSTAMP:20260422T091636
CREATED:20210804T155951Z
LAST-MODIFIED:20210804T155951Z
UID:8447-1633698000-1633701600@lcfasd.com
SUMMARY:Al-Anon Women's Support Group
DESCRIPTION:Al-Anon Women’s Support Group. Open to the community. Please call to register at 780-594-9905.
URL:https://lcfasd.com/calendar/al-anon-womens-support-group-120/
LOCATION:Cold Lake office
CATEGORIES:Awareness
ORGANIZER;CN="LCFASD":MAILTO:admin@lcfasd.com
END:VEVENT
BEGIN:VEVENT
DTSTART;TZID=America/Edmonton:20211007T110000
DTEND;TZID=America/Edmonton:20211007T130000
DTSTAMP:20260422T091636
CREATED:20210804T155225Z
LAST-MODIFIED:20210804T155225Z
UID:8439-1633604400-1633611600@lcfasd.com
SUMMARY:Employment Group
DESCRIPTION:
URL:https://lcfasd.com/calendar/employment-group-11/
LOCATION:Call for more information\, Alberta\, T9M 1P1\, Canada
CATEGORIES:Awareness
ORGANIZER;CN="LCFASD":MAILTO:admin@lcfasd.com
END:VEVENT
BEGIN:VEVENT
DTSTART;TZID=America/Edmonton:20211006T090000
DTEND;TZID=America/Edmonton:20211006T143000
DTSTAMP:20260422T091636
CREATED:20211005T152122Z
LAST-MODIFIED:20211005T152122Z
UID:8559-1633510800-1633530600@lcfasd.com
SUMMARY:FASD and the Justice System Conference
DESCRIPTION:
URL:https://lcfasd.com/calendar/fasd-and-the-justice-system-conference-2/
LOCATION:Zoom
CATEGORIES:Awareness
ORGANIZER;CN="LCFASD":MAILTO:admin@lcfasd.com
END:VEVENT
BEGIN:VEVENT
DTSTART;TZID=America/Edmonton:20211005T150000
DTEND;TZID=America/Edmonton:20211005T160000
DTSTAMP:20260422T091636
CREATED:20210804T155152Z
LAST-MODIFIED:20210804T155152Z
UID:8438-1633446000-1633449600@lcfasd.com
SUMMARY:Employment Group
DESCRIPTION:
URL:https://lcfasd.com/calendar/employment-group-10/
LOCATION:Call for more information\, Alberta\, T9M 1P1\, Canada
CATEGORIES:Awareness
ORGANIZER;CN="LCFASD":MAILTO:admin@lcfasd.com
END:VEVENT
BEGIN:VEVENT
DTSTART;TZID=America/Edmonton:20211005T090000
DTEND;TZID=America/Edmonton:20211005T143000
DTSTAMP:20260422T091636
CREATED:20211005T152040Z
LAST-MODIFIED:20211005T152040Z
UID:8558-1633424400-1633444200@lcfasd.com
SUMMARY:FASD and the Justice System Conference
DESCRIPTION:
URL:https://lcfasd.com/calendar/fasd-and-the-justice-system-conference/
LOCATION:Zoom
CATEGORIES:Awareness
ORGANIZER;CN="LCFASD":MAILTO:admin@lcfasd.com
END:VEVENT
END:VCALENDAR