BEGIN:VCALENDAR
VERSION:2.0
PRODID:-//Lakeland Centre for FASD - ECPv6.15.20//NONSGML v1.0//EN
CALSCALE:GREGORIAN
METHOD:PUBLISH
X-ORIGINAL-URL:https://lcfasd.com
X-WR-CALDESC:Events for Lakeland Centre for FASD
REFRESH-INTERVAL;VALUE=DURATION:PT1H
X-Robots-Tag:noindex
X-PUBLISHED-TTL:PT1H
BEGIN:VTIMEZONE
TZID:America/Edmonton
BEGIN:DAYLIGHT
TZOFFSETFROM:-0700
TZOFFSETTO:-0600
TZNAME:MDT
DTSTART:20170312T090000
END:DAYLIGHT
BEGIN:STANDARD
TZOFFSETFROM:-0600
TZOFFSETTO:-0700
TZNAME:MST
DTSTART:20171105T080000
END:STANDARD
BEGIN:DAYLIGHT
TZOFFSETFROM:-0700
TZOFFSETTO:-0600
TZNAME:MDT
DTSTART:20180311T090000
END:DAYLIGHT
BEGIN:STANDARD
TZOFFSETFROM:-0600
TZOFFSETTO:-0700
TZNAME:MST
DTSTART:20181104T080000
END:STANDARD
BEGIN:DAYLIGHT
TZOFFSETFROM:-0700
TZOFFSETTO:-0600
TZNAME:MDT
DTSTART:20190310T090000
END:DAYLIGHT
BEGIN:STANDARD
TZOFFSETFROM:-0600
TZOFFSETTO:-0700
TZNAME:MST
DTSTART:20191103T080000
END:STANDARD
END:VTIMEZONE
BEGIN:VEVENT
DTSTART;TZID=America/Edmonton:20181205T110000
DTEND;TZID=America/Edmonton:20181205T130000
DTSTAMP:20260422T064050
CREATED:20181022T162625Z
LAST-MODIFIED:20181022T162625Z
UID:2202-1544007600-1544014800@lcfasd.com
SUMMARY:Cold Lake Employment Group
DESCRIPTION:
URL:https://lcfasd.com/calendar/cold-lake-employment-group-37/
END:VEVENT
BEGIN:VEVENT
DTSTART;TZID=America/Edmonton:20181206T110000
DTEND;TZID=America/Edmonton:20181206T130000
DTSTAMP:20260422T064050
CREATED:20181022T161532Z
LAST-MODIFIED:20181022T161532Z
UID:2194-1544094000-1544101200@lcfasd.com
SUMMARY:Lac La Biche Employment Group
DESCRIPTION:
URL:https://lcfasd.com/calendar/lac-la-biche-employment-group-32/
END:VEVENT
BEGIN:VEVENT
DTSTART;TZID=America/Edmonton:20181206T130000
DTEND;TZID=America/Edmonton:20181206T150000
DTSTAMP:20260422T064050
CREATED:20181022T160810Z
LAST-MODIFIED:20181022T160810Z
UID:2186-1544101200-1544108400@lcfasd.com
SUMMARY:Art Club
DESCRIPTION:Explore your creative artistic side and join us every Thursday from 1:00-3:00 for art club. Art club is open to LCFASD clients. Please call to register at 780-594-9905
URL:https://lcfasd.com/calendar/art-club-27/
END:VEVENT
BEGIN:VEVENT
DTSTART;TZID=America/Edmonton:20181207T133000
DTEND;TZID=America/Edmonton:20181207T143000
DTSTAMP:20260422T064050
CREATED:20181022T160457Z
LAST-MODIFIED:20181022T160457Z
UID:2178-1544189400-1544193000@lcfasd.com
SUMMARY:Al-Anon Women's Support Group
DESCRIPTION:Please call to register 780-594-9905
URL:https://lcfasd.com/calendar/al-anon-womens-support-group-34/
END:VEVENT
BEGIN:VEVENT
DTSTART;TZID=America/Edmonton:20181210T093000
DTEND;TZID=America/Edmonton:20181210T160000
DTSTAMP:20260422T064050
CREATED:20181108T162612Z
LAST-MODIFIED:20181108T162612Z
UID:2255-1544434200-1544457600@lcfasd.com
SUMMARY:FASD 101 training - Cold Lake
DESCRIPTION:
URL:https://lcfasd.com/calendar/fasd-101-training-cold-lake/
END:VEVENT
BEGIN:VEVENT
DTSTART;TZID=America/Edmonton:20181211T093000
DTEND;TZID=America/Edmonton:20181211T160000
DTSTAMP:20260422T064050
CREATED:20181108T163110Z
LAST-MODIFIED:20181108T163110Z
UID:2258-1544520600-1544544000@lcfasd.com
SUMMARY:FASD 201 training - Cold Lake
DESCRIPTION:
URL:https://lcfasd.com/calendar/fasd-201-training-cold-lake/
END:VEVENT
BEGIN:VEVENT
DTSTART;TZID=America/Edmonton:20181212T110000
DTEND;TZID=America/Edmonton:20181212T130000
DTSTAMP:20260422T064050
CREATED:20181022T163129Z
LAST-MODIFIED:20181022T163129Z
UID:2204-1544612400-1544619600@lcfasd.com
SUMMARY:Cold Lake Employment Group
DESCRIPTION:
URL:https://lcfasd.com/calendar/cold-lake-employment-group-38/
END:VEVENT
BEGIN:VEVENT
DTSTART;TZID=America/Edmonton:20181213T110000
DTEND;TZID=America/Edmonton:20181213T130000
DTSTAMP:20260422T064050
CREATED:20181022T161628Z
LAST-MODIFIED:20181022T161628Z
UID:2196-1544698800-1544706000@lcfasd.com
SUMMARY:Lac La Biche Employment Group
DESCRIPTION:
URL:https://lcfasd.com/calendar/lac-la-biche-employment-group-33/
END:VEVENT
BEGIN:VEVENT
DTSTART;TZID=America/Edmonton:20181213T130000
DTEND;TZID=America/Edmonton:20181213T150000
DTSTAMP:20260422T064050
CREATED:20181022T160929Z
LAST-MODIFIED:20181022T160929Z
UID:2188-1544706000-1544713200@lcfasd.com
SUMMARY:Art Club
DESCRIPTION:Explore your creative artistic side and join us every Thursday from 1:00-3:00 for art club. Art club is open to LCFASD clients. Please call to register at 780-594-9905
URL:https://lcfasd.com/calendar/art-club-28/
END:VEVENT
BEGIN:VEVENT
DTSTART;TZID=America/Edmonton:20181214T133000
DTEND;TZID=America/Edmonton:20181214T143000
DTSTAMP:20260422T064050
CREATED:20181022T160548Z
LAST-MODIFIED:20181022T160548Z
UID:2180-1544794200-1544797800@lcfasd.com
SUMMARY:Al-Anon Women's Support Group
DESCRIPTION:Please call to register 780-594-9905
URL:https://lcfasd.com/calendar/al-anon-womens-support-group-35/
END:VEVENT
BEGIN:VEVENT
DTSTART;TZID=America/Edmonton:20181219T110000
DTEND;TZID=America/Edmonton:20181219T130000
DTSTAMP:20260422T064050
CREATED:20181022T163218Z
LAST-MODIFIED:20181022T163218Z
UID:2206-1545217200-1545224400@lcfasd.com
SUMMARY:Cold Lake Employment Group
DESCRIPTION:
URL:https://lcfasd.com/calendar/cold-lake-employment-group-39/
END:VEVENT
BEGIN:VEVENT
DTSTART;TZID=America/Edmonton:20181220T110000
DTEND;TZID=America/Edmonton:20181220T130000
DTSTAMP:20260422T064050
CREATED:20181022T161804Z
LAST-MODIFIED:20181022T161804Z
UID:2200-1545303600-1545310800@lcfasd.com
SUMMARY:Lac La Biche Employment Group
DESCRIPTION:
URL:https://lcfasd.com/calendar/lac-la-biche-employment-group-35/
END:VEVENT
BEGIN:VEVENT
DTSTART;TZID=America/Edmonton:20181220T130000
DTEND;TZID=America/Edmonton:20181220T150000
DTSTAMP:20260422T064050
CREATED:20181022T161102Z
LAST-MODIFIED:20181022T161102Z
UID:2190-1545310800-1545318000@lcfasd.com
SUMMARY:Art Club
DESCRIPTION:Explore your creative artistic side and join us every Thursday from 1:00-3:00 for art club. Art club is open to LCFASD clients. Please call to register at 780-594-9905
URL:https://lcfasd.com/calendar/art-club-29/
END:VEVENT
BEGIN:VEVENT
DTSTART;TZID=America/Edmonton:20181221T133000
DTEND;TZID=America/Edmonton:20181221T143000
DTSTAMP:20260422T064050
CREATED:20181022T160634Z
LAST-MODIFIED:20181022T160634Z
UID:2182-1545399000-1545402600@lcfasd.com
SUMMARY:Al-Anon Women's Support Group
DESCRIPTION:Please call to register 780-594-9905
URL:https://lcfasd.com/calendar/al-anon-womens-support-group-36/
END:VEVENT
BEGIN:VEVENT
DTSTART;TZID=America/Edmonton:20181225T080000
DTEND;TZID=America/Edmonton:20181225T170000
DTSTAMP:20260422T064050
CREATED:20181126T163818Z
LAST-MODIFIED:20181126T163818Z
UID:2423-1545724800-1545757200@lcfasd.com
SUMMARY:LCFASD offices closed for Christmas
DESCRIPTION:
URL:https://lcfasd.com/calendar/lcfasd-offices-closed-for-christmas/
END:VEVENT
BEGIN:VEVENT
DTSTART;TZID=America/Edmonton:20181226T080000
DTEND;TZID=America/Edmonton:20181226T170000
DTSTAMP:20260422T064050
CREATED:20181126T163847Z
LAST-MODIFIED:20181126T163847Z
UID:2425-1545811200-1545843600@lcfasd.com
SUMMARY:LCFASD offices closed for Christmas
DESCRIPTION:
URL:https://lcfasd.com/calendar/lcfasd-offices-closed-for-christmas-2/
END:VEVENT
BEGIN:VEVENT
DTSTART;TZID=America/Edmonton:20181226T110000
DTEND;TZID=America/Edmonton:20181226T130000
DTSTAMP:20260422T064050
CREATED:20181022T163301Z
LAST-MODIFIED:20181022T163301Z
UID:2208-1545822000-1545829200@lcfasd.com
SUMMARY:Cold Lake Employment Group
DESCRIPTION:
URL:https://lcfasd.com/calendar/cold-lake-employment-group-40/
END:VEVENT
BEGIN:VEVENT
DTSTART;TZID=America/Edmonton:20181227T110000
DTEND;TZID=America/Edmonton:20181227T130000
DTSTAMP:20260422T064050
CREATED:20181022T161717Z
LAST-MODIFIED:20181022T161717Z
UID:2198-1545908400-1545915600@lcfasd.com
SUMMARY:Lac La Biche Employment Group
DESCRIPTION:
URL:https://lcfasd.com/calendar/lac-la-biche-employment-group-34/
END:VEVENT
BEGIN:VEVENT
DTSTART;TZID=America/Edmonton:20181227T130000
DTEND;TZID=America/Edmonton:20181227T150000
DTSTAMP:20260422T064050
CREATED:20181022T161306Z
LAST-MODIFIED:20181022T161306Z
UID:2192-1545915600-1545922800@lcfasd.com
SUMMARY:Art Club
DESCRIPTION:Explore your creative artistic side and join us every Thursday from 1:00-3:00 for art club. Art club is open to LCFASD clients. Please call to register at 780-594-9905
URL:https://lcfasd.com/calendar/art-club-30/
END:VEVENT
BEGIN:VEVENT
DTSTART;TZID=America/Edmonton:20181228T133000
DTEND;TZID=America/Edmonton:20181228T143000
DTSTAMP:20260422T064050
CREATED:20181022T160717Z
LAST-MODIFIED:20181022T160717Z
UID:2184-1546003800-1546007400@lcfasd.com
SUMMARY:Al-Anon Women's Support Group
DESCRIPTION:Please call to register 780-594-9905
URL:https://lcfasd.com/calendar/al-anon-womens-support-group-37/
END:VEVENT
END:VCALENDAR